BEGIN:VCALENDAR
VERSION:2.0
PRODID:-//pretix//pretix.eu//
BEGIN:VTIMEZONE
TZID:Europe/Berlin
BEGIN:STANDARD
DTSTART:20001029T040000
RRULE:FREQ=YEARLY;BYDAY=-1SU;BYMONTH=10
TZNAME:CET
TZOFFSETFROM:+0200
TZOFFSETTO:+0100
END:STANDARD
BEGIN:DAYLIGHT
DTSTART:20000326T030000
RRULE:FREQ=YEARLY;BYDAY=-1SU;BYMONTH=3
TZNAME:CEST
TZOFFSETFROM:+0100
TZOFFSETTO:+0200
END:DAYLIGHT
END:VTIMEZONE
BEGIN:VEVENT
UID:pretix-waldbaden-pmr-0@veranstaltungen.pia-ulbrich.de
DTSTART;TZID=Europe/Berlin:20251001T180000
DTEND;TZID=Europe/Berlin:20251210T193000
DESCRIPTION:Tickets: https://veranstaltungen.pia-ulbrich.de/pmr/\nVeranstal
 ter: Mindful Coaching und Beratung
DTSTAMP:20260424T173202Z
LOCATION:Bertha B.\, Bertha-Benz-Str. 2\, 71522 Backnang
SUMMARY:Präventionskurs: „Relax & Reset – Mit Progressiver Muskelrelax
 ation (PMR) zu mehr innerer Ruhe“
END:VEVENT
END:VCALENDAR
