BEGIN:VCALENDAR
VERSION:2.0
PRODID:-//pretix//pretix.eu//
BEGIN:VTIMEZONE
TZID:Europe/Berlin
BEGIN:STANDARD
DTSTART:20001029T040000
RRULE:FREQ=YEARLY;BYDAY=-1SU;BYMONTH=10
TZNAME:CET
TZOFFSETFROM:+0200
TZOFFSETTO:+0100
END:STANDARD
BEGIN:DAYLIGHT
DTSTART:20000326T030000
RRULE:FREQ=YEARLY;BYDAY=-1SU;BYMONTH=3
TZNAME:CEST
TZOFFSETFROM:+0100
TZOFFSETTO:+0200
END:DAYLIGHT
END:VTIMEZONE
BEGIN:VEVENT
UID:pretix-waldbaden-jobklar-0@veranstaltungen.pia-ulbrich.de
DTSTART;TZID=Europe/Berlin:20250814T190000
DTEND;TZID=Europe/Berlin:20250814T200000
DESCRIPTION:Tickets: https://veranstaltungen.pia-ulbrich.de/jobklar/\nVeran
 stalter: Mindful Coaching und Beratung
DTSTAMP:20260424T173402Z
LOCATION:Online via Zoom (ink. Aufzeichnung)
SUMMARY:"Jobklar!" – Alles rund um die Bewerbung\, Selbstmarketing & das 
 Vorstellungsgespräch
END:VEVENT
END:VCALENDAR
